BEGIN:VCALENDAR
VERSION:2.0
PRODID:-//85.13.148.165//NONSGML kigkonsult.se iCalcreator 2.20//
CALSCALE:GREGORIAN
METHOD:PUBLISH
X-WR-TIMEZONE:Europe/Berlin
BEGIN:VEVENT
UID:event29@schlosskirche-jahnishausen.de
DTSTAMP:20260425T152852Z
CATEGORIES:Konzert\, Veranstaltung
DESCRIPTION:Christvesper in der Schlosskirche Jahnishausen\nKategorie: Konz
 ert\, Veranstaltung\nICS-Link: https://www.schlosskirche-jahnishausen.de/i
 ndex.php?option=com_jem&view=event&id=29:christnacht-am-heilig-abend\n
DTSTART;TZID=Europe/Berlin:20251224T220000
DTEND;TZID=Europe/Berlin:20251224T224500
LOCATION:Schlosskirche Jahnishausen\,Jahnatalstraße 4\,01587 Jahnishausen
SUMMARY:Christvesper in der Schlosskirche Jahnishausen
URL:https://www.schlosskirche-jahnishausen.de/index.php?option=com_jem&view
 =event&id=29:christnacht-am-heilig-abend
END:VEVENT
END:VCALENDAR