BEGIN:VCALENDAR
VERSION:2.0
PRODID:-//85.13.148.165//NONSGML kigkonsult.se iCalcreator 2.20//
CALSCALE:GREGORIAN
METHOD:PUBLISH
X-WR-TIMEZONE:Europe/Berlin
BEGIN:VEVENT
UID:event33@schlosskirche-jahnishausen.de
DTSTAMP:20260425T141605Z
CATEGORIES:Veranstaltung
DESCRIPTION:KUNST & KLANG | Improvisation und mehr in der Schlosskirche\nKa
 tegorie: Veranstaltung\nICS-Link: https://www.schlosskirche-jahnishausen.d
 e/index.php?option=com_jem&view=event&id=33:kunst-klang-improvisation-und-
 mehr-in-der-schlosskirche\n
DTSTART;TZID=Europe/Berlin:20260524T140000
DTEND;TZID=Europe/Berlin:20260524T170000
LOCATION:Schlosskirche Jahnishausen\,Jahnatalstraße 4\,01587 Jahnishausen
SUMMARY:KUNST & KLANG | Improvisation und mehr in der Schlosskirche
URL:https://www.schlosskirche-jahnishausen.de/index.php?option=com_jem&view
 =event&id=33:kunst-klang-improvisation-und-mehr-in-der-schlosskirche
END:VEVENT
END:VCALENDAR