BEGIN:VCALENDAR
VERSION:2.0
PRODID:-//85.13.148.165//NONSGML kigkonsult.se iCalcreator 2.20//
CALSCALE:GREGORIAN
METHOD:PUBLISH
X-WR-TIMEZONE:Europe/Berlin
BEGIN:VEVENT
UID:event44@schlosskirche-jahnishausen.de
DTSTAMP:20260425T141857Z
CATEGORIES:Konzert
DESCRIPTION:„Mit Leib und Seele“ - Chorus Vocalis\nKategorie: Konzert\nICS-
 Link: https://www.schlosskirche-jahnishausen.de/index.php?option=com_jem&v
 iew=event&id=44:mit-leib-und-seele\n
DTSTART;TZID=Europe/Berlin:20260510T160000
DTEND;TZID=Europe/Berlin:20260510T160000
LOCATION:Schlosskirche Jahnishausen\,Jahnatalstraße 4\,01587 Jahnishausen
SUMMARY:„Mit Leib und Seele“ - Chorus Vocalis
URL:https://www.schlosskirche-jahnishausen.de/index.php?option=com_jem&view
 =event&id=44:mit-leib-und-seele
END:VEVENT
END:VCALENDAR