BEGIN:VCALENDAR
VERSION:2.0
PRODID:-//85.13.148.165//NONSGML kigkonsult.se iCalcreator 2.20//
CALSCALE:GREGORIAN
METHOD:PUBLISH
X-WR-TIMEZONE:Europe/Berlin
BEGIN:VEVENT
UID:event45@schlosskirche-jahnishausen.de
DTSTAMP:20260425T141504Z
CATEGORIES:Veranstaltung
DESCRIPTION:„Das Vermögen der Wettiner nach 1918“ | Vortrag\nKategorie: Ver
 anstaltung\nICS-Link: https://www.schlosskirche-jahnishausen.de/index.php?
 option=com_jem&view=event&id=45:das-vermoegen-der-wettiner-nach-1918\n
DTSTART;TZID=Europe/Berlin:20260531T160000
DTEND;TZID=Europe/Berlin:20260531T160000
LOCATION:Schlosskirche Jahnishausen\,Jahnatalstraße 4\,01587 Jahnishausen
SUMMARY:„Das Vermögen der Wettiner nach 1918“ | Vortrag
URL:https://www.schlosskirche-jahnishausen.de/index.php?option=com_jem&view
 =event&id=45:das-vermoegen-der-wettiner-nach-1918
END:VEVENT
END:VCALENDAR