BEGIN:VCALENDAR
VERSION:2.0
PRODID:-//85.13.148.165//NONSGML kigkonsult.se iCalcreator 2.20//
CALSCALE:GREGORIAN
METHOD:PUBLISH
X-WR-TIMEZONE:Europe/Berlin
BEGIN:VEVENT
UID:event4@schlosskirche-jahnishausen.de
DTSTAMP:20260425T153302Z
CATEGORIES:Konzert
DESCRIPTION:„Die sieben letzten Worte unseres Erlösers am Kreuz“\nKategorie
 : Konzert\nICS-Link: https://www.schlosskirche-jahnishausen.de/index.php?o
 ption=com_jem&view=event&id=4:die-sieben-letzten-worte-unseres-erloesers-a
 m-kreuz\n
DTSTART;TZID=Europe/Berlin:20250418T190000
DTEND;TZID=Europe/Berlin:20250418T190000
LOCATION:Schlosskirche Jahnishausen\,Jahnatalstraße 4\,01587 Jahnishausen
SUMMARY:„Die sieben letzten Worte unseres Erlösers am Kreuz“
URL:https://www.schlosskirche-jahnishausen.de/index.php?option=com_jem&view
 =event&id=4:die-sieben-letzten-worte-unseres-erloesers-am-kreuz
END:VEVENT
END:VCALENDAR