BEGIN:VCALENDAR
VERSION:2.0
PRODID:-//85.13.148.165//NONSGML kigkonsult.se iCalcreator 2.20//
CALSCALE:GREGORIAN
METHOD:PUBLISH
X-WR-TIMEZONE:Europe/Berlin
BEGIN:VEVENT
UID:event7@schlosskirche-jahnishausen.de
DTSTAMP:20260425T152627Z
CATEGORIES:Konzert
DESCRIPTION:Deutsche Lieder über das Leben\, die Liebe und den Schmerz | Pe
 rski & Company\nKategorie: Konzert\nICS-Link: https://www.schlosskirche-ja
 hnishausen.de/index.php?option=com_jem&view=event&id=7:perski-company\n
DTSTART;TZID=Europe/Berlin:20250601T160000
DTEND;TZID=Europe/Berlin:20250601T160000
LOCATION:Schlosskirche Jahnishausen\,Jahnatalstraße 4\,01587 Jahnishausen
SUMMARY:Deutsche Lieder über das Leben\, die Liebe und den Schmerz | Perski
  & Company
URL:https://www.schlosskirche-jahnishausen.de/index.php?option=com_jem&view
 =event&id=7:perski-company
END:VEVENT
END:VCALENDAR