BEGIN:VCALENDAR
VERSION:2.0
PRODID:-//85.13.148.165//NONSGML kigkonsult.se iCalcreator 2.20//
CALSCALE:GREGORIAN
METHOD:PUBLISH
X-WR-TIMEZONE:Europe/Berlin
BEGIN:VEVENT
UID:event8@schlosskirche-jahnishausen.de
DTSTAMP:20260425T152627Z
CATEGORIES:Konzert
DESCRIPTION:Duo STIL-FRECH\nKategorie: Konzert\nICS-Link: https://www.schlo
 sskirche-jahnishausen.de/index.php?option=com_jem&view=event&id=8:duo-stil
 -frech\n
DTSTART;TZID=Europe/Berlin:20250615T160000
DTEND;TZID=Europe/Berlin:20250615T160000
LOCATION:Schlosskirche Jahnishausen\,Jahnatalstraße 4\,01587 Jahnishausen
SUMMARY:Duo STIL-FRECH
URL:https://www.schlosskirche-jahnishausen.de/index.php?option=com_jem&view
 =event&id=8:duo-stil-frech
END:VEVENT
END:VCALENDAR